BEGIN:VCALENDAR
VERSION:2.0
PRODID:-//Ayuntamiento de Benijófar - ECPv6.15.16//NONSGML v1.0//EN
CALSCALE:GREGORIAN
METHOD:PUBLISH
X-ORIGINAL-URL:https://www.benijofar.es
X-WR-CALDESC:Eventos para Ayuntamiento de Benijófar
REFRESH-INTERVAL;VALUE=DURATION:PT1H
X-Robots-Tag:noindex
X-PUBLISHED-TTL:PT1H
BEGIN:VTIMEZONE
TZID:Europe/Madrid
BEGIN:DAYLIGHT
TZOFFSETFROM:+0100
TZOFFSETTO:+0200
TZNAME:CEST
DTSTART:20170326T010000
END:DAYLIGHT
BEGIN:STANDARD
TZOFFSETFROM:+0200
TZOFFSETTO:+0100
TZNAME:CET
DTSTART:20171029T010000
END:STANDARD
BEGIN:DAYLIGHT
TZOFFSETFROM:+0100
TZOFFSETTO:+0200
TZNAME:CEST
DTSTART:20180325T010000
END:DAYLIGHT
BEGIN:STANDARD
TZOFFSETFROM:+0200
TZOFFSETTO:+0100
TZNAME:CET
DTSTART:20181028T010000
END:STANDARD
BEGIN:DAYLIGHT
TZOFFSETFROM:+0100
TZOFFSETTO:+0200
TZNAME:CEST
DTSTART:20190331T010000
END:DAYLIGHT
BEGIN:STANDARD
TZOFFSETFROM:+0200
TZOFFSETTO:+0100
TZNAME:CET
DTSTART:20191027T010000
END:STANDARD
BEGIN:DAYLIGHT
TZOFFSETFROM:+0100
TZOFFSETTO:+0200
TZNAME:CEST
DTSTART:20200329T010000
END:DAYLIGHT
BEGIN:STANDARD
TZOFFSETFROM:+0200
TZOFFSETTO:+0100
TZNAME:CET
DTSTART:20201025T010000
END:STANDARD
BEGIN:DAYLIGHT
TZOFFSETFROM:+0100
TZOFFSETTO:+0200
TZNAME:CEST
DTSTART:20210328T010000
END:DAYLIGHT
BEGIN:STANDARD
TZOFFSETFROM:+0200
TZOFFSETTO:+0100
TZNAME:CET
DTSTART:20211031T010000
END:STANDARD
BEGIN:DAYLIGHT
TZOFFSETFROM:+0100
TZOFFSETTO:+0200
TZNAME:CEST
DTSTART:20220327T010000
END:DAYLIGHT
BEGIN:STANDARD
TZOFFSETFROM:+0200
TZOFFSETTO:+0100
TZNAME:CET
DTSTART:20221030T010000
END:STANDARD
BEGIN:DAYLIGHT
TZOFFSETFROM:+0100
TZOFFSETTO:+0200
TZNAME:CEST
DTSTART:20230326T010000
END:DAYLIGHT
BEGIN:STANDARD
TZOFFSETFROM:+0200
TZOFFSETTO:+0100
TZNAME:CET
DTSTART:20231029T010000
END:STANDARD
BEGIN:DAYLIGHT
TZOFFSETFROM:+0100
TZOFFSETTO:+0200
TZNAME:CEST
DTSTART:20240331T010000
END:DAYLIGHT
BEGIN:STANDARD
TZOFFSETFROM:+0200
TZOFFSETTO:+0100
TZNAME:CET
DTSTART:20241027T010000
END:STANDARD
BEGIN:DAYLIGHT
TZOFFSETFROM:+0100
TZOFFSETTO:+0200
TZNAME:CEST
DTSTART:20250330T010000
END:DAYLIGHT
BEGIN:STANDARD
TZOFFSETFROM:+0200
TZOFFSETTO:+0100
TZNAME:CET
DTSTART:20251026T010000
END:STANDARD
END:VTIMEZONE
BEGIN:VEVENT
DTSTART;TZID=Europe/Madrid:20240310T190000
DTEND;TZID=Europe/Madrid:20240310T203000
DTSTAMP:20260423T224854
CREATED:20240305T131627Z
LAST-MODIFIED:20241025T084109Z
UID:10000010-1710097200-1710102600@www.benijofar.es
SUMMARY:REPRESENTACIÓN TEATRAL
DESCRIPTION:PROGRAMACIÓN DÍA INTERNACIONAL DE LA MUJER 2024.\nRepresentación teatral CEFERINA ENCUENTRA NOVIO.\nDomingo 10 de marzo a las 19:00 horas.\nAuditorio de la Casa de Cultura.\nEntrada gratuita.
URL:https://www.benijofar.es/event/representacion-teatral/
ATTACH;FMTTYPE=image/jpeg:https://www.benijofar.es/wp-content/uploads/2024/10/425285579_799854328839196_8355302290173320343_n.jpg
END:VEVENT
BEGIN:VEVENT
DTSTART;TZID=Europe/Madrid:20231004T080000
DTEND;TZID=Europe/Madrid:20231004T170000
DTSTAMP:20260423T224854
CREATED:20231004T084648Z
LAST-MODIFIED:20241025T084108Z
UID:10000009-1696406400-1696438800@www.benijofar.es
SUMMARY:OTOÑO A ESCENA 2023
DESCRIPTION:
URL:https://www.benijofar.es/event/%f0%9f%8e%ad%f0%9f%8d%81otono-a-escena-2023%f0%9f%8d%82%f0%9f%a9%b0/
ATTACH;FMTTYPE=image/jpeg:https://www.benijofar.es/wp-content/uploads/2024/09/386245292_710925964398700_8237498159550372573_n.jpg
END:VEVENT
BEGIN:VEVENT
DTSTART;TZID=Europe/Madrid:20231004T080000
DTEND;TZID=Europe/Madrid:20231004T170000
DTSTAMP:20260423T224854
CREATED:20231004T084302Z
LAST-MODIFIED:20241025T084108Z
UID:10000008-1696406400-1696438800@www.benijofar.es
SUMMARY:Ruta Nocturna en Bici
DESCRIPTION:
URL:https://www.benijofar.es/event/ruta-nocturna-en-bici/
ATTACH;FMTTYPE=image/jpeg:https://www.benijofar.es/wp-content/uploads/2024/09/Bici-Nocturna-2023-1-1.jpg
END:VEVENT
BEGIN:VEVENT
DTSTART;VALUE=DATE:20201211
DTEND;VALUE=DATE:20210108
DTSTAMP:20260423T224854
CREATED:20201211T124656Z
LAST-MODIFIED:20241025T084105Z
UID:10000007-1607644800-1610063999@www.benijofar.es
SUMMARY:NAVIDAD 2020
DESCRIPTION:
URL:https://www.benijofar.es/event/navidad-2020/
ATTACH;FMTTYPE=image/png:https://www.benijofar.es/wp-content/uploads/2024/09/Navidad-2020-1-1.png
END:VEVENT
BEGIN:VEVENT
DTSTART;TZID=Europe/Madrid:20201128T180000
DTEND;TZID=Europe/Madrid:20201128T210000
DTSTAMP:20260423T224854
CREATED:20201125T134836Z
LAST-MODIFIED:20241025T084104Z
UID:10000006-1606586400-1606597200@www.benijofar.es
SUMMARY:BENIJÓFAR ONLINE PARTY
DESCRIPTION:
URL:https://www.benijofar.es/event/benijofar-online-party/
ATTACH;FMTTYPE=image/jpeg:https://www.benijofar.es/wp-content/uploads/2024/10/ON-LINE-PARTY-1-1.jpg
END:VEVENT
BEGIN:VEVENT
DTSTART;TZID=Europe/Madrid:20190603T080000
DTEND;TZID=Europe/Madrid:20190603T170000
DTSTAMP:20260423T224854
CREATED:20190603T083126Z
LAST-MODIFIED:20190603T083126Z
UID:10000005-1559548800-1559581200@www.benijofar.es
SUMMARY:CURSO DE MANIPULADOR DE ALIMENTOS
DESCRIPTION:RECORDAMOS QUE EL 5 DE JUNIO DE 2019 REALIZAREMOS EL CURSO DE MANIPULADOR \nDE ALIMENTOS IMPARTIDO POR EL CDT DE TORREVIEJA PARA DESEMPLEADOS O EMPLEADOS EN SITUACIÓN DE MEJORA DE EMPLEO APUNTADOS EN EL SERVEF. \nES IMPORTANTE QUE AQUELLOS INTERESADOS OS APUNTÉIS CUANTO ANTES\, O NO PODREMOS HACER EL CURSO POR FALTA DE INSCRITOS. \nINSCRIPCIONES DESDE LA APP DEL CDT O EN LA AGENCIA DE DESARROLLO LOCAL DEL AYUNTAMIENTO DE BENIJÓFAR.
URL:https://www.benijofar.es/event/curso-de-manipulador-de-alimentos/
END:VEVENT
BEGIN:VEVENT
DTSTART;VALUE=DATE:20190523
DTEND;VALUE=DATE:20190601
DTSTAMP:20260423T224854
CREATED:20190523T081642Z
LAST-MODIFIED:20190523T081642Z
UID:10000004-1558569600-1559347199@www.benijofar.es
SUMMARY:CURSO PLATAFORMAS ELEVADORAS
DESCRIPTION:PARTE PRÁCTICA DEL CURSO DE PLATAFORMAS ELEVADORAS\, CARRETILLAS ELEVADORAS\, GRÚA HIDRÁULICA\, MANIPULADORA Y PUENTE. \nLA PARTE PRÁCTICA DEL CURSO DE PLATAFORMAS ELEVADORAS HOMOLOGADOR POR LA TPC SE REALIZARÁ EL PRÓXIMO 31 DE MAYO A LAS 16:00H EN ANIP PISCINAS\, POLÍGONO INDUSTRIAL LOS VALEROS DE BENIJÓFAR. Y EN SEGUNDO LLAMAMIENTO EL VIERNES DIA SIETE DE JUNIO EN EL MISMO SITIO MISMA HORA.
URL:https://www.benijofar.es/event/curso-plataformas-elevadoras/
END:VEVENT
BEGIN:VEVENT
DTSTART;TZID=Europe/Madrid:20190325T000000
DTEND;TZID=Europe/Madrid:20190325T000000
DTSTAMP:20260423T224854
CREATED:20190325T080303Z
LAST-MODIFIED:20190325T080303Z
UID:10000003-1553472000-1553472000@www.benijofar.es
SUMMARY:Boletines
DESCRIPTION:Hola Mundo
URL:https://www.benijofar.es/event/boletines/
END:VEVENT
BEGIN:VEVENT
DTSTART;TZID=Europe/Madrid:20181005T080000
DTEND;TZID=Europe/Madrid:20181007T170000
DTSTAMP:20260423T224854
CREATED:20180928T094101Z
LAST-MODIFIED:20241025T084059Z
UID:10000002-1538726400-1538931600@www.benijofar.es
SUMMARY:9ª RUEDA DE LAS TAPAS
DESCRIPTION:Este próximo 5\, 6\, 7 de octubre se celebran la 9ª edición de la Rueda de las Tapas\, donde los restaurantes y bares de Benijófar participarán en el fin de semana gastronómico con más de cincuenta tapas. Contaremos con nuestro tren habanero para realizar la ruta por los locales hosteleros de nuestro municipio y de las urbanizaciones. Podéis participar en nuestro sorteo de una cena y un cheque de 100 euros\, sólo tenéis que acumular los sellos en los folletos repartidos en los bares y restaurantes del municipio y en el ayuntamiento de Benijófar. \nPara más información podéis acercaros al ayuntamiento. \n¡¡Os esperamos!! \nhttp://www.benijofar.es/wp-content/uploads/2018/09/VID-20180924-WA0005.mp4
URL:https://www.benijofar.es/event/9a-rueda-de-las-tapas/
ATTACH;FMTTYPE=image/jpeg:https://www.benijofar.es/wp-content/uploads/2024/10/42535624_2254745741425733_7865446344435957760_n-1.jpg
END:VEVENT
END:VCALENDAR